Workbook

Sheet Cover Page
A1: Revised 07.31.2025
D2: CUTR2023
A5: Florida Transportation Systems, Inc.
A7: REPRESENTING
A9: Endera, Fenton-Abilitrax & Primetime
A29: ORDER PACKET
A31: Contract #TRIPS-22-CA-MB-LF-FTS
A32: Standard Cutaway and Minibus Chassis Type Transit Vehicles
A36: Effective: Date of Amendment Execution

Sheet General Information
A1: Revised 07.31.2025
A3: CONTRACT #TRIPS-22-CA-MB-LF-FTS
A5: ORDER PACKET FOR
A6: Florida Transportation Systems, Inc.
A7: General Information
A8: The Transit Research Inspection Procurement Services Program (TRIPS) issued Proposal #TRIPS-22-CA-MB-LF-RFP to establish a series of state contracts for the purchase of cutaways, minibuses, and low floor cutaway vehicles. Through this process contracts were awarded to five (5) different Contractors, each representing a vehicle manufacturer.
A10: This Order Packet contains the necessary instructions and forms for Purchasers to place an order with Florida Transportation Systems, Inc. to purchase these vehicles. This Order Packet also provides guidance and clarity on the relationships between the Contractor, the Purchaser, and Florida DOT’s TRIPS program.
A12: The complete Contract #TRIPS-22-CA-MB-LF-FTS is accessible from the TRIPS website at http://tripsflorida.org and contains the following sections:
A14: - General Requirements: Terms, Conditions and Contractual Provisions
A15: - Exhibit 1 - Part 1: Technical Specifications
A16: - Exhibit 1 - Part 2: Quality Assurance Provisions
A17: - Exhibit 1 - Part 3: Warranty Provisions
... A121: The total purchase price should be paid in full within sixty (60) days after acceptance of each vehicle. Purchasers should note that failure to meet the net 60-day payment terms could result in the assessment of interest and other penalties. Terms are those shown in Price Proposal Form E of the contract document. A 2% monthly service charge will be added to all past due accounts.

Sheet Anticipated Usage Form
D1: Revised 07.31.2025
A3: TRIPS-CA-MB-LF-ABC
A4: Anticipated Usage Form
A6: Service Type (Check all that apply):
C7: Fixed Route
C8: Paratransit
C9: Shuttle/Deviated Fixed Route
B10: Estimated days in a service week:
A11: Operating Environment (Check all that apply):
C12: City Streets
C13: Highway
C14: Parking Lot/Airport Shuttle
C15: Retirement Campus
C16: Combination City/Highway
C17: College Campus
C18: Other
A19: Operational Equipment (Check all that apply):
C20: Destination Signs
C21: Fare Box
C22: Routing Equipment
C23: Camera System
C24: Passenger Counter
C25: Other

Sheet Ford Transit-PrimeTime20ft
A1: Revised 07.31.2025
A3: EXHIBIT 8
A4: ORDER FORM
A5: CONTRACT #TRIPS-22-CA-MB-LF-FTS
A6: Standard Cutaway and Minibus Chassis Type Transit Vehicles
A7: Florida Transportation Systems
A9: All Pricing has been rounded up or down to the nearest whole dollar
A10: Contact Information | G10: For Grant Funded Vehicles Only
A11: Agency Name: | G11: FFY:
A12: Date: | G12: Project: | H12: Select One
A13: PO Number: | G13: UZA:
A14: Name:
A15: Telephone Number:
A16: Email Address:
A17: Form Effective Date:
A18: Chassis Make | F18: Ford Transit
A19: Chassis Model Year | F19: 2026
A20: Model | F20: PrimeTime
A21: Vehicle Style | F21: Transit Minibus
A22: GVWR | F22: 9250
A23: Length in feet | F23: 20
A24: Useful Life | F24: 5 years/200,000 miles
A25: Description | F25: Quantity | G25: UOM | H25: Unit Cost | I25: Extended Cost
A26: Ford Transit, PrimeTime, Transit Minibus 20' | G26: EA | H26: 90487 | I26: =+F26*H26 -> 0
A27: Standard Seats | G27: Per Person | H27: 634 | I27: =+F27*H27 -> 0
A28: Fold-Away Seats | G28: Per Person | H28: 759 | I28: =+F28*H28 -> 0
A29: Children's Seat | G29: Per Person | H29: 807 | I29: =+F29*H29 -> 0
A30: Paint Scheme 1 | G30: EA | H30: 305 | I30: =+F30*H30 -> 0
A31: Paint Scheme 2 | G31: EA | H31: 416 | I31: =+F31*H31 -> 0
A32: Paint Scheme 3 | G32: EA | H32: 533 | I32: =+F32*H32 -> 0
A33: Item No | B33: Description | F33: Quantity | G33: UOM | H33: Unit Cost | I33: Extended Cost
A34: 3.2.3 | B34: Liquid Spring Suspension System | G34: Per Vehicle | H34: 9131 | I34: =+F34*H34 -> 0
A35: 3.3.2 | B35: Stainless steel wheel liners / inserts, front and rear wheels | G35: Per Vehicle | H35: 105 | I35: =+F35*H35 -> 0
A36: 3.4.1 | B36: Freedman Featherweight High Back rigid frame seats (per seat) 3PT Hiqhback, Arm Rest, Grab, Lvl 4 Dimensions | G36: Per Vehicle | H36: 705 | I36: =+F36*H36 -> 0
A37: 3.4.2 | B37: Freedman seat upholstery material provided by CMI Enterprises, or approved equal. Fabric to be CMI DIMENSIONS LATE EVENING, style VP-DIMEN-LEVEN or CMI DIMENSIONS CHARCOAL, style VP-DIMEN-CHAR or approved equal | H37: Standard
A38: 3.4.3 | B38: Freedman Featherweight with Dimensions vinyl line of coated transit bus seating fabric with antimicrobial Nanocide, by CMI Enterprises, or approved equal. Fabric to be CMI DIMENSIONS LATE EVENING, style VP- DIMEN-LEVEN or CMI DIMENSIONS CHARCOAL, style VP-DIMEN-CHAR or aooroved equal | G38: Per Person | H38: 619 | I38: =+F38*H38 -> 0
A39: 3.4.7 | B39: Extend the length of the standard seat belts provided | G39: EA | H39: 41 | I39: =+F39*H39 -> 0
A40: 3.4.8 | B40: Fully Encapsulated Seat Cushioning with FTA Docket 90- A Compliant Vinyl Upholstery per Seat | G40: Per Person | H40: 25 | I40: =+F40*H40 -> 0
A41: 3.8.1 | B41: Driver Safety Partition | G41: Per Vehicle | H41: 212 | I41: =+F41*H41 -> 0
A42: 3.9.1 | B42: Powder-Coated handrails and stanchions (provide color options) | G42: EA | H42: 203 | I42: =+F42*H42 -> 0
...

Sheet Ford Transit-PrimeTime22ft
A1: Revised 07.31.2025
A3: EXHIBIT 8
A4: ORDER FORM
A5: CONTRACT #TRIPS-22-CA-MB-LF-FTS
A6: Standard Cutaway and Minibus Chassis Type Transit Vehicles
A7: Florida Transportation Systems
A9: All Pricing has been rounded up or down to the nearest whole dollar
A10: Contact Information | G10: For Grant Funded Vehicles Only
A11: Agency Name: | G11: FFY:
A12: Date: | G12: Project: | H12: Select One
A13: PO Number: | G13: UZA:
A14: Name:
A15: Telephone Number:
A16: Email Address:
A17: Form Effective Date:
A18: Chassis Make | F18: Ford Transit
A19: Chassis Model Year | F19: 2026
A20: Model | F20: PrimeTime
A21: Vehicle Style | F21: Transit Minibus
A22: GVWR | F22: 10360
A23: Length in feet | F23: 22
A24: Useful Life | F24: 5 Years/200,000 miles
A25: Description | F25: Quantity | G25: UOM | H25: Unit Cost | I25: Extended Cost
A26: Ford Transit, PrimeTime, Transit Minibus 22' | G26: EA | H26: 97302 | I26: =+F26*H26 -> 0
A27: Standard Seats | G27: Per Person | H27: 634 | I27: =+F27*H27 -> 0
A28: Fold-Away Seats | G28: Per Person | H28: 759 | I28: =+F28*H28 -> 0
A29: Children's Seat | G29: Per Person | H29: 807 | I29: =+F29*H29 -> 0
A30: Paint Scheme 1 | G30: EA | H30: 305 | I30: =+F30*H30 -> 0
A31: Paint Scheme 2 | G31: EA | H31: 416 | I31: =+F31*H31 -> 0
A32: Paint Scheme 3 | G32: EA | H32: 533 | I32: =+F32*H32 -> 0
A33: Item No | B33: Description | F33: Quantity | G33: UOM | H33: Unit Cost | I33: Extended Cost
A34: 3.2.3 | B34: Liquid Spring Suspension System | G34: Per Vehicle | H34: 9131 | I34: =+F34*H34 -> 0
A35: 3.3.2 | B35: Stainless steel wheel liners / inserts, front and rear wheels | G35: Per Vehicle | H35: 105 | I35: =+F35*H35 -> 0
A36: 3.4.1 | B36: Freedman Featherweight High Back rigid frame seats (per seat) 3PT Hiqhback, Arm Rest, Grab, Lvl 4 Dimensions | G36: Per Person | H36: 705 | I36: =+F36*H36 -> 0
A37: 3.4.2 | B37: Freedman seat upholstery material provided by CMI Enterprises, or approved equal. Fabric to be CMI DIMENSIONS LATE EVENING, style VP-DIMEN-LEVEN or CMI DIMENSIONS CHARCOAL, style VP-DIMEN-CHAR or approved equal | H37: Standard
A38: 3.4.3 | B38: Freedman Featherweight with Dimensions vinyl line of coated transit bus seating fabric with antimicrobial Nanocide, by CMI Enterprises, or approved equal. Fabric to be CMI DIMENSIONS LATE EVENING, style VP- DIMEN-LEVEN or CMI DIMENSIONS CHARCOAL, style VP-DIMEN-CHAR or aooroved equal | G38: Per Person | H38: 634 | I38: =+F38*H38 -> 0
A39: 3.4.7 | B39: Extend the length of the standard seat belts provided | G39: EA | H39: 41 | I39: =+F39*H39 -> 0
A40: 3.4.8 | B40: Fully Encapsulated Seat Cushioning with FTA Docket 90- A Compliant Vinyl Upholstery per Seat | G40: Per Person | H40: 25 | I40: =+F40*H40 -> 0
A41: 3.8.1 | B41: Driver Safety Partition | G41: Per Vehicle | H41: 212 | I41: =+F41*H41 -> 0
A42: 3.9.1 | B42: Powder-Coated handrails and stanchions (provide color options) | G42: EA | H42: 203 | I42: =+F42*H42 -> 0
...

Sheet Ford Trans X2C-Abilitrax
A1: Revised 07.31.2025
A3: EXHIBIT 8
A4: ORDER FORM
A5: CONTRACT #TRIPS-22-CA-MB-LF-FTS
A6: Standard Cutaway and Minibus Chassis Type Transit Vehicles
A7: Florida Transportation Systems
A9: All Pricing has been rounded up or down to the nearest whole dollar
A10: Contact Information | G10: For Grant Funded Vehicles Only
A11: Agency Name: | G11: FFY:
A12: Date: | G12: Project: | H12: Select One
A13: PO Number: | G13: UZA:
A14: Name:
A15: Telephone Number:
A16: Email Address:
A17: Form Effective Date:
A18: Chassis Make | F18: Ford Transit X2C
A19: Chassis Model Year | F19: 2026
A20: Model | F20: Abilitrax
A21: Vehicle Style | F21: Transit Minibus
A22: GVWR | F22: 9250
A23: Length in feet | F23: 22
A24: Useful Life | F24: 5 Years/200,000 Miles
A25: Description | F25: Quantity | G25: UOM | H25: Unit Cost | I25: Extended Cost
A26: Ford Transit X2C, Abilitrax, Transit Minibus 22' | G26: EA | H26: 92941 | I26: =+F26*H26 -> 0
A27: Standard Seats | G27: Per Person | H27: 634 | I27: =+F27*H27 -> 0
A28: Fold-Away Seats | G28: Per Person | H28: 709 | I28: =+F28*H28 -> 0
A29: Children's Seat | G29: Per Person | H29: 812 | I29: =+F29*H29 -> 0
A30: Paint Scheme 1 | G30: EA | H30: 305 | I30: =+F30*H30 -> 0
A31: Paint Scheme 2 | G31: EA | H31: 432 | I31: =+F31*H31 -> 0
A32: Paint Scheme 3 | G32: EA | H32: 518 | I32: =+F32*H32 -> 0
A33: Item No | B33: Description | F33: Quantity | G33: UOM | H33: Unit Cost | I33: Extended Cost
A34: 3.1.2 | B34: Ford E Transit with Fenton Mobility Dual Battery extended range System | G34: Per Vehicle | H34: 88767 | I34: =+F34*H34 -> 0
A35: 3.2.3 | B35: Liquid Spring Suspension System | G35: Per Vehicle | H35: 9131 | I35: =+F35*H35 -> 0
A36: 3.3.1 | B36: Aluminum wheels | G36: Per Vehicle | H36: 482 | I36: =+F36*H36 -> 0
A37: 3.3.2 | B37: Stainless steel wheel liners / inserts, front and rear wheels | G37: Per Vehicle | H37: 315 | I37: =+F37*H37 -> 0
A38: 3.4.1 | B38: Freedman Featherweight High Back rigid frame seats (per seat) 3PT Hiqhback, Arm Rest, Grab, Lvl 4 Dimensions | G38: Per Person | H38: 705 | I38: =+F38*H38 -> 0
A39: 3.4.2 | B39: Freedman seat upholstery material provided by CMI Enterprises, or approved equal. Fabric to be CMI DIMENSIONS LATE EVENING, style VP-DIMEN-LEVEN or CMI DIMENSIONS CHARCOAL, style VP-DIMEN-CHAR or approved equal | H39: Standard
A40: 3.4.3 | B40: Freedman Featherweight with Dimensions vinyl line of coated transit bus seating fabric with antimicrobial Nanocide, by CMI Enterprises, or approved equal. Fabric to be CMI DIMENSIONS LATE EVENING, style VP- DIMEN-LEVEN or CMI DIMENSIONS CHARCOAL, style VP-DIMEN-CHAR or aooroved equal | G40: Per Person | H40: 634 | I40: =+F40*H40 -> 0
A41: 3.4.7 | B41: Extend the length of the standard seat belts provided | G41: EA | H41: 35 | I41: =+F41*H41 -> 0
A42: 3.4.8 | B42: Fully Encapsulated Seat Cushioning with FTA Docket 90- A Compliant Vinyl Upholstery per Seat | G42: Per Person | H42: 25 | I42: =+F42*H42 -> 0
...

Sheet Dodge ProMaster MT-1
A1: Revised 07.31.2025
A3: EXHIBIT 8
A4: ORDER FORM
A5: CONTRACT #TRIPS-22-CA-MB-LF-FTS
A6: Standard Cutaway and Minibus Chassis Type Transit Vehicles
A7: Florida Transportation Systems
A9: All Pricing has been rounded up or down to the nearest whole dollar
A10: Contact Information | G10: For Grant Funded Vehicles Only
A11: Agency Name: | G11: FFY:
A12: Date: | G12: Project: | H12: Select One
A13: PO Number: | G13: UZA:
A14: Name:
A15: Telephone Number:
A16: Email Address:
A17: Form Effective Date:
A18: Chassis Make | F18: Dodge Ram
A19: Chassis Model Year | F19: 2026
A20: Model | F20: ProMaster
A21: Vehicle Style | F21: Transit Minibus
A22: GVWR | F22: 9250
A23: Length in feet | F23: 21
A24: Useful Life | F24: 5 Years/200,000 Miles
A25: Description | F25: Quantity | G25: UOM | H25: Unit Cost | I25: Extended Cost
A26: Dodge Ram, ProMaster, Transit Minibus 21' | G26: EA | H26: 139847 | I26: =+F26*H26 -> 0
A27: Standard Seats | G27: Per Person | H27: 634 | I27: =+F27*H27 -> 0
A28: Fold-Away Seats | G28: Per Person | H28: 759 | I28: =+F28*H28 -> 0
A29: Children's Seat | G29: Per Person | H29: 807 | I29: =+F29*H29 -> 0
A30: Paint Scheme 1 | G30: EA | H30: 305 | I30: =+F30*H30 -> 0
A31: Paint Scheme 2 | G31: EA | H31: 416 | I31: =+F31*H31 -> 0
A32: Paint Scheme 3 | G32: EA | H32: 533 | I32: =+F32*H32 -> 0
A33: Item No | B33: Description | F33: Quantity | G33: UOM | H33: Unit Cost | I33: Extended Cost
A34: 3.2.3 | B34: Liquid Spring Suspension System | G34: Per Vehicle | H34: 9131 | I34: =+F34*H34 -> 0
A35: 3.3.2 | B35: Stainless steel wheel liners / inserts, front and rear wheels | G35: Per Vehicle | H35: 105 | I35: =+F35*H35 -> 0
A36: 3.4.1 | B36: Freedman Featherweight High Back rigid frame seats (per seat) 3PT Hiqhback, Arm Rest, Grab, Lvl 4 Dimensions | G36: Per Person | H36: 705 | I36: =+F36*H36 -> 0
A37: 3.4.2 | B37: Freedman seat upholstery material provided by CMI Enterprises, or approved equal. Fabric to be CMI DIMENSIONS LATE EVENING, style VP-DIMEN-LEVEN or CMI DIMENSIONS CHARCOAL, style VP-DIMEN-CHAR or approved equal | H37: Standard
A38: 3.4.3 | B38: Freedman Featherweight with Dimensions vinyl line of coated transit bus seating fabric with antimicrobial Nanocide, by CMI Enterprises, or approved equal. Fabric to be CMI DIMENSIONS LATE EVENING, style VP- DIMEN-LEVEN or CMI DIMENSIONS CHARCOAL, style VP-DIMEN-CHAR or aooroved equal | G38: Per Vehicle | H38: 619 | I38: =+F38*H38 -> 0
A39: 3.4.7 | B39: Extend the length of the standard seat belts provided | G39: EA | H39: 41 | I39: =+F39*H39 -> 0
A40: 3.4.8 | B40: Fully Encapsulated Seat Cushioning with FTA Docket 90- A Compliant Vinyl Upholstery per Seat | G40: Per Vehicle | H40: 25 | I40: =+F40*H40 -> 0
A41: 3.8.1 | B41: Driver Safety Partition | G41: Per Vehicle | H41: 212 | I41: =+F41*H41 -> 0
A42: 3.9.1 | B42: Powder-Coated handrails and stanchions (provide color options) | G42: EA | H42: 203 | I42: =+F42*H42 -> 0
...

Sheet Ford Trans U4X-Abilitrax
A1: Revised 07.31.2025
A3: EXHIBIT 8
A4: ORDER FORM
A5: CONTRACT #TRIPS-22-CA-MB-LF-FTS
A6: Standard Cutaway and Minibus Chassis Type Transit Vehicles
A7: Florida Transportation Systems
A9: All Pricing has been rounded up or down to the nearest whole dollar
A10: Contact Information | G10: For Grant Funded Vehicles Only
A11: Agency Name: | G11: FFY:
A12: Date: | G12: Project: | H12: Select One
A13: PO Number: | G13: UZA:
A14: Name:
A15: Telephone Number:
A16: Email Address:
A17: Form Effective Date:
A18: Chassis Make | F18: Ford Transit U4X
A19: Chassis Model Year | F19: 2026
A20: Model | F20: Abilitrax
A21: Vehicle Style | F21: Transit Minibus
A22: GVWR | F22: 10360
A23: Length in feet | F23: 22
A24: Useful Life | F24: 5 Years/200,000Miles
A25: Description | F25: Quantity | G25: UOM | H25: Unit Cost | I25: Extended Cost
A26: Ford Transit U4X, Abilitrax, Transit Minibus 22' | G26: EA | H26: 95993 | I26: =+F26*H26 -> 0
A27: Standard Seats | G27: Per Person | H27: 634 | I27: =+F27*H27 -> 0
A28: Fold-Away Seats | G28: Per Person | H28: 709 | I28: =+F28*H28 -> 0
A29: Children's Seat | G29: Per Person | H29: 812 | I29: =+F29*H29 -> 0
A30: Paint Scheme 1 | G30: EA | H30: 305 | I30: =+F30*H30 -> 0
A31: Paint Scheme 2 | G31: EA | H31: 432 | I31: =+F31*H31 -> 0
A32: Paint Scheme 3 | G32: EA | H32: 518 | I32: =+F32*H32 -> 0
A33: Item No | B33: Description | F33: Quantity | G33: UOM | H33: Unit Cost | I33: Extended Cost
A34: 3.2.3 | B34: Liquid Spring Suspension System | G34: Per Vehicle | H34: 9131 | I34: =+F34*H34 -> 0
A35: 3.3.2 | B35: Stainless steel wheel liners / inserts, front and rear wheels | G35: Per Vehicle | H35: 315 | I35: =+F35*H35 -> 0
A36: 3.4.1 | B36: Freedman Featherweight High Back rigid frame seats (per seat) 3PT Hiqhback, Arm Rest, Grab, Lvl 4 Dimensions | G36: Per Person | H36: 705 | I36: =+F36*H36 -> 0
A37: 3.4.2 | B37: Freedman seat upholstery material provided by CMI Enterprises, or approved equal. Fabric to be CMI DIMENSIONS LATE EVENING, style VP-DIMEN-LEVEN or CMI DIMENSIONS CHARCOAL, style VP-DIMEN-CHAR or approved equal | H37: Standard
A38: 3.4.3 | B38: Freedman Featherweight with Dimensions vinyl line of coated transit bus seating fabric with antimicrobial Nanocide, by CMI Enterprises, or approved equal. Fabric to be CMI DIMENSIONS LATE EVENING, style VP- DIMEN-LEVEN or CMI DIMENSIONS CHARCOAL, style VP-DIMEN-CHAR or aooroved equal | G38: Per Person | H38: 634 | I38: =+F38*H38 -> 0
A39: 3.4.7 | B39: Extend the length of the standard seat belts provided | G39: EA | H39: 35 | I39: =+F39*H39 -> 0
A40: 3.4.8 | B40: Fully Encapsulated Seat Cushioning with FTA Docket 90- A Compliant Vinyl Upholstery per Seat | G40: Per Person | H40: 25 | I40: =+F40*H40 -> 0
A41: 3.4.9 | B41: Removal of CoPilot Seat/Additional Curbside Entry/Exit | G41: EA | H41: 1968 | I41: =+F41*H41 -> 0
A42: 3.6.1 | B42: A Flat-Floor option | H42: Standard
...

Sheet Ford Trans 350-Enderra B23
A1: Revised 07.31.2025
A3: EXHIBIT 8
A4: ORDER FORM
A5: CONTRACT #TRIPS-22-CA-MB-LF-FTS
A6: Standard Cutaway and Minibus Chassis Type Transit Vehicles
A7: Florida Transportation Systems
A9: All Pricing has been rounded up or down to the nearest whole dollar
A10: Contact Information | G10: For Grant Funded Vehicles Only
A11: Agency Name: | G11: FFY:
A12: Date: | G12: Project: | H12: Select One
A13: PO Number: | G13: UZA:
A14: Name:
A15: Telephone Number:
A16: Email Address:
A17: Form Effective Date:
A18: Chassis Make | F18: Ford T350 3.5L
A19: Chassis Model Year | F19: 2026
A20: Model | F20: Enderra
A21: Vehicle Style | F21: Cutaway
A22: GVWR | F22: 11000
A23: Length in feet | F23: 23
A24: Useful Life | F24: 5 Years/200,000 Miles
A25: Description | F25: Quantity | G25: UOM | H25: Unit Cost | I25: Extended Cost
A26: Ford E350 7.3L, Enderra, Cutaway 23' | G26: EA | H26: 120370 | I26: =+F26*H26 -> 0
A27: Standard Seats | G27: Per Person | H27: 505 | I27: =+F27*H27 -> 0
A28: Fold-Away Seats | G28: Per Person | H28: 608 | I28: =+F28*H28 -> 0
A29: Children's Seat | G29: Per Person | H29: 638 | I29: =+F29*H29 -> 0
A30: Paint Scheme 1 | G30: EA | H30: 537 | I30: =+F30*H30 -> 0
A31: Paint Scheme 2 | G31: EA | H31: 831 | I31: =+F31*H31 -> 0
A32: Paint Scheme 3 | G32: EA | H32: 1044 | I32: =+F32*H32 -> 0
A33: Item No | B33: Description | F33: Quantity | G33: UOM | H33: Unit Cost | I33: Extended Cost
A34: 3.1.2.1 | B34: XL Hybrid system Installed by A1 Fuels for Ford Transit Cutaway | G34: Per Vehicle | H34: 27359 | I34: =+F34*H34 -> 0
A35: 3.1.2.2 | B35: 21GGE LPG Kit by Alliance Autogas (Bi-fuel) Installed by A1 Fuels for Ford Transit Cutaway | G35: Per Vehicle | H35: 17983 | I35: =+F35*H35 -> 0
A36: 3.1.2.9 | B36: Starter Interrupt for CNG and LPG conversion kits | G36: Per Vehicle | H36: 355 | I36: =+F36*H36 -> 0
A37: 3.1.2.10 | B37: Amerex Methane Gas Detection | G37: Per Vehicle | H37: 2280 | I37: =+F37*H37 -> 0
A38: 3.2.1 | B38: MoRYde RSX rear suspension system | G38: Per Vehicle | H38: 790 | I38: =+F38*H38 -> 0
A39: 3.2.2 | B39: Kelderman 2-Stage Rear Air Suspension | G39: Per Vehicle | H39: 6454 | I39: =+F39*H39 -> 0
A40: 3.2.3 | B40: Liquid Spring Suspension System | G40: Per Vehicle | H40: 9017 | I40: =+F40*H40 -> 0
A41: 3.3.1 | B41: Aluminum wheels | G41: Per Vehicle | H41: 2178 | I41: =+F41*H41 -> 0
A42: 3.3.2 | B42: Stainless steel wheel liners / inserts, front and rear wheels | G42: Per Vehicle | H42: 289 | I42: =+F42*H42 -> 0
...

Sheet Ford E350 7.3L Enderra B23
A1: Revised 07.31.2025
A3: EXHIBIT 8
A4: ORDER FORM
A5: CONTRACT #TRIPS-22-CA-MB-LF-FTS
A6: Standard Cutaway and Minibus Chassis Type Transit Vehicles
A7: Florida Transportation Systems
A9: All Pricing has been rounded up or down to the nearest whole dollar
A10: Contact Information | G10: For Grant Funded Vehicles Only
A11: Agency Name: | G11: FFY:
A12: Date: | G12: Project: | H12: Select One
A13: PO Number: | G13: UZA:
A14: Name:
A15: Telephone Number:
A16: Email Address:
A17: Form Effective Date:
A18: Chassis Make | F18: Ford E350 7.3L
A19: Chassis Model Year | F19: 2026
A20: Model | F20: Enderra
A21: Vehicle Style | F21: Cutaway
A22: GVWR | F22: 12500
A23: Length in feet | F23: 23
A24: Useful Life | F24: 5 Years/200,000 Miles
A25: Description | F25: Quantity | G25: UOM | H25: Unit Cost | I25: Extended Cost
A26: Ford E350 7.3L, Enderra, Cutaway 23' | G26: EA | H26: 114777 | I26: =+F26*H26 -> 0
A27: Standard Seats | G27: Per Person | H27: 505 | I27: =+F27*H27 -> 0
A28: Fold-Away Seats | G28: Per Person | H28: 608 | I28: =+F28*H28 -> 0
A29: Children's Seat | G29: Per Person | H29: 638 | I29: =+F29*H29 -> 0
A30: Paint Scheme 1 | G30: EA | H30: 537 | I30: =+F30*H30 -> 0
A31: Paint Scheme 2 | G31: EA | H31: 831 | I31: =+F31*H31 -> 0
A32: Paint Scheme 3 | G32: EA | H32: 1044 | I32: =+F32*H32 -> 0
A33: Item No | B33: Description | F33: Quantity | G33: UOM | H33: Unit Cost | I33: Extended Cost
A34: 3.1.2.7 | B34: Alternative Fuels, Roush 64 GGE LPG Package Ford E Series | G34: Per Vehicle | H34: 38397 | I34: =+F34*H34 -> 0
A35: 3.1.2.9 | B35: Starter Interrupt for CNG and LPG conversion kits | G35: Per Vehicle | H35: 355 | I35: =+F35*H35 -> 0
A36: 3.1.2.10 | B36: Amerex Methane Gas Detection | G36: Per Vehicle | H36: 2280 | I36: =+F36*H36 -> 0
A37: 3.2.1 | B37: MoRYde RSX rear suspension system | G37: Per Vehicle | H37: 790 | I37: =+F37*H37 -> 0
A38: 3.2.2 | B38: Kelderman 2-Stage Rear Air Suspension | G38: Per Vehicle | H38: 6454 | I38: =+F38*H38 -> 0
A39: 3.2.3 | B39: Liquid Spring Suspension System | G39: Per Vehicle | H39: 9017 | I39: =+F39*H39 -> 0
A40: 3.3.1 | B40: Aluminum wheels | G40: Per Vehicle | H40: 2178 | I40: =+F40*H40 -> 0
A41: 3.3.2 | B41: Stainless steel wheel liners / inserts, front and rear wheels | G41: Per Vehicle | H41: 289 | I41: =+F41*H41 -> 0
A42: 3.4.1 | B42: Freedman Featherweight High Back rigid frame seats 3PT Hiqhback, Arm Rest, Grab, Lvl 4 Dimensions | G42: Per Person | H42: 505 | I42: =+F42*H42 -> 0
...

Sheet Ford E450-Enderra CA
A1: Revised 07.31.2025
A3: EXHIBIT 8
A4: ORDER FORM
A5: CONTRACT #TRIPS-22-CA-MB-LF-FTS
A6: Standard Cutaway and Minibus Chassis Type Transit Vehicles
A7: Florida Transportation Systems
A9: All Pricing has been rounded up or down to the nearest whole dollar
A10: Contact Information | G10: For Grant Funded Vehicles Only
A11: Agency Name: | G11: FFY:
A12: Date: | G12: Project: | H12: Select One
A13: PO Number: | G13: UZA:
A14: Name:
A15: Telephone Number:
A16: Email Address:
A17: Form Effective Date:
A18: Chassis Make | F18: Ford E450
A19: Chassis Model Year | F19: 2026
A20: Model | F20: Enderra
A21: Vehicle Style | F21: Cutaway
A22: GVWR | F22: 14500
A23: Length in feet | F23: 24
A24: Useful Life | F24: 5 Years/200,000 Miles
A25: Description | F25: Quatity | G25: UOM | H25: Unit Cost | I25: Extended Cost
A26: Ford E450, Enderra, Cutaway 23' | G26: EA | H26: 116872 | I26: =+F26*H26 -> 0
A27: Ford E450, Enderra, Cutaway 24' | G27: EA | H27: 116872 | I27: =+F27*H27 -> 0
A28: Ford E450, Enderra, Cutaway 26' | G28: EA | H28: 119202 | I28: =+F28*H28 -> 0
A29: Standard Seats | G29: Per Person | H29: 505 | I29: =+F29*H29 -> 0
A30: Fold-Away Seats | G30: Per Person | H30: 608 | I30: =+F30*H30 -> 0
A31: Children's Seat | G31: Per Person | H31: 638 | I31: =+F31*H31 -> 0
A32: Paint Scheme 1 | G32: EA | H32: 537 | I32: =+F32*H32 -> 0
A33: Paint Scheme 2 | G33: EA | H33: 831 | I33: =+F33*H33 -> 0
A34: Paint Scheme 3 | G34: EA | H34: 1044 | I34: =+F34*H34 -> 0
A35: Item No | B35: Description | F35: Quatity | G35: UOM | H35: Unit Cost | I35: Extended Cost
A36: 3.1.2.3 | B36: 28GGE CNG Kit by Landi Rezo (Dedicated), Altech-Eco (Bi-fuel) Installed by A1 Fuels for Ford E-450 | G36: Per Vehicle | H36: 29558 | I36: =+F36*H36 -> 0
A37: 3.1.2.4 | B37: 40GGE CNG Kit by Landi Rezo (Dedicated), Altech-Eco (Bi-fuel) Installed by A1 Fuels for Ford E-450 | G37: Per Vehicle | H37: 33676 | I37: =+F37*H37 -> 0
A38: 3.1.2.5 | B38: 36GGE LPG Kit by Roush (dedicated) Alliance Autogas (Bi-fuel) Installed bv A1 Fuels for Ford E-450, E-350 | G38: Per Vehicle | H38: 17274 | I38: =+F38*H38 -> 0
A39: 3.1.2.6 | B39: 41GGE LPG Kit by Roush (dedicated) Alliance Autogas (Bi-fuel) Installed by A1 Fuels for Ford E-450, E-350 | G39: Per Vehicle | H39: 29558 | I39: =+F39*H39 -> 0
A40: 3.1.2.7 | B40: Alternative Fuels, Roush 64 GGE LPG Package Ford E Series | G40: Per Vehicle | H40: 33534 | I40: =+F40*H40 -> 0
A41: 3.1.2.9 | B41: Starter Interrupt for CNG and LPG conversion kits | G41: Per Vehicle | H41: 355 | I41: =+F41*H41 -> 0
A42: 3.1.2.10 | B42: Amerex Methane Gas Detection | G42: Per Vehicle | H42: 2280 | I42: =+F42*H42 -> 0
...

Sheet Vehicle Deductions
A1: Revised 07.31.2025
A3: EXHIBIT 8
A4: ORDER FORM DEDUCTIONS
A5: CONTRACT #TRIPS-22-CA-MB-LF-FTS
A6: Standard Cutaway and Minibus Chassis Type Transit Vehicles
A7: Florida Transportation Systems
A9: All Pricing has been rounded up or down to the nearest whole dollar
A10: This form may only be used to remove line items from the order packet of the executed contract. There will be no allowance for the addition of options through this form. Any addition of options must be done through a properly executed contract amendment. Please use the line item number and description for each line to be credited to the final order packet. For all vehicle purchases funded in part by the FTA Section 5310, 5311, or 5339 grant program, a copy of the completed order form, this deduction form and the Purchaser purchase order must be emailed or mailed to the TRIPS Assistant Program Manager.
A12: Contact Information | G12: For Grant Funded Vehicles Only
A13: Agency Name: | G13: FFY:
A14: Date: | G14: Project: | H14: Select One
A15: PO Number: | G15: UZA:
A16: Name:
A17: Telephone Number:
A18: Email Address:
A19: Form Effective Date:
A20: Item No. | B20: Description | F20: Quantity | G20: UOM | H20: Unit Cost | I20: Extended Cost
I21: =ABS(+F21*H21)*-1 -> 0
I22: =ABS(+F22*H22)*-1 -> 0
I23: =ABS(+F23*H23)*-1 -> 0
I24: =ABS(+F24*H24)*-1 -> 0
I25: =ABS(+F25*H25)*-1 -> 0
I26: =ABS(+F26*H26)*-1 -> 0
I27: =ABS(+F27*H27)*-1 -> 0
I28: =ABS(+F28*H28)*-1 -> 0
I29: =ABS(+F29*H29)*-1 -> 0
I30: =ABS(+F30*H30)*-1 -> 0
I31: =ABS(+F31*H31)*-1 -> 0
I32: =ABS(+F32*H32)*-1 -> 0
... I43: =ABS(+F43*H43)*-1 -> 0
A44: GRAND TOTAL | I44: =SUM(I21:I43) -> 0

Sheet Menu Items
A1: Project | B1: Service Type
A2: Select One
A3: 5310 | B3: X
A4: 5311
A5: 5339
A6: Other
